BEGIN:VCALENDAR
VERSION:2.0
PRODID:-//Indigo Aquatics Inc - ECPv6.15.17.1//NONSGML v1.0//EN
CALSCALE:GREGORIAN
METHOD:PUBLISH
X-ORIGINAL-URL:https://indigoaquatics.com
X-WR-CALDESC:Events for Indigo Aquatics Inc
REFRESH-INTERVAL;VALUE=DURATION:PT1H
X-Robots-Tag:noindex
X-PUBLISHED-TTL:PT1H
BEGIN:VTIMEZONE
TZID:America/New_York
BEGIN:DAYLIGHT
TZOFFSETFROM:-0500
TZOFFSETTO:-0400
TZNAME:EDT
DTSTART:20230312T070000
END:DAYLIGHT
BEGIN:STANDARD
TZOFFSETFROM:-0400
TZOFFSETTO:-0500
TZNAME:EST
DTSTART:20231105T060000
END:STANDARD
BEGIN:DAYLIGHT
TZOFFSETFROM:-0500
TZOFFSETTO:-0400
TZNAME:EDT
DTSTART:20240310T070000
END:DAYLIGHT
BEGIN:STANDARD
TZOFFSETFROM:-0400
TZOFFSETTO:-0500
TZNAME:EST
DTSTART:20241103T060000
END:STANDARD
BEGIN:DAYLIGHT
TZOFFSETFROM:-0500
TZOFFSETTO:-0400
TZNAME:EDT
DTSTART:20250309T070000
END:DAYLIGHT
BEGIN:STANDARD
TZOFFSETFROM:-0400
TZOFFSETTO:-0500
TZNAME:EST
DTSTART:20251102T060000
END:STANDARD
BEGIN:DAYLIGHT
TZOFFSETFROM:-0500
TZOFFSETTO:-0400
TZNAME:EDT
DTSTART:20260308T070000
END:DAYLIGHT
BEGIN:STANDARD
TZOFFSETFROM:-0400
TZOFFSETTO:-0500
TZNAME:EST
DTSTART:20261101T060000
END:STANDARD
BEGIN:DAYLIGHT
TZOFFSETFROM:-0500
TZOFFSETTO:-0400
TZNAME:EDT
DTSTART:20270314T070000
END:DAYLIGHT
BEGIN:STANDARD
TZOFFSETFROM:-0400
TZOFFSETTO:-0500
TZNAME:EST
DTSTART:20271107T060000
END:STANDARD
END:VTIMEZONE
BEGIN:VTIMEZONE
TZID:America/Los_Angeles
BEGIN:DAYLIGHT
TZOFFSETFROM:-0800
TZOFFSETTO:-0700
TZNAME:PDT
DTSTART:20240310T100000
END:DAYLIGHT
BEGIN:STANDARD
TZOFFSETFROM:-0700
TZOFFSETTO:-0800
TZNAME:PST
DTSTART:20241103T090000
END:STANDARD
BEGIN:DAYLIGHT
TZOFFSETFROM:-0800
TZOFFSETTO:-0700
TZNAME:PDT
DTSTART:20250309T100000
END:DAYLIGHT
BEGIN:STANDARD
TZOFFSETFROM:-0700
TZOFFSETTO:-0800
TZNAME:PST
DTSTART:20251102T090000
END:STANDARD
BEGIN:DAYLIGHT
TZOFFSETFROM:-0800
TZOFFSETTO:-0700
TZNAME:PDT
DTSTART:20260308T100000
END:DAYLIGHT
BEGIN:STANDARD
TZOFFSETFROM:-0700
TZOFFSETTO:-0800
TZNAME:PST
DTSTART:20261101T090000
END:STANDARD
END:VTIMEZONE
BEGIN:VTIMEZONE
TZID:America/Chicago
BEGIN:DAYLIGHT
TZOFFSETFROM:-0600
TZOFFSETTO:-0500
TZNAME:CDT
DTSTART:20230312T080000
END:DAYLIGHT
BEGIN:STANDARD
TZOFFSETFROM:-0500
TZOFFSETTO:-0600
TZNAME:CST
DTSTART:20231105T070000
END:STANDARD
BEGIN:DAYLIGHT
TZOFFSETFROM:-0600
TZOFFSETTO:-0500
TZNAME:CDT
DTSTART:20240310T080000
END:DAYLIGHT
BEGIN:STANDARD
TZOFFSETFROM:-0500
TZOFFSETTO:-0600
TZNAME:CST
DTSTART:20241103T070000
END:STANDARD
BEGIN:DAYLIGHT
TZOFFSETFROM:-0600
TZOFFSETTO:-0500
TZNAME:CDT
DTSTART:20250309T080000
END:DAYLIGHT
BEGIN:STANDARD
TZOFFSETFROM:-0500
TZOFFSETTO:-0600
TZNAME:CST
DTSTART:20251102T070000
END:STANDARD
END:VTIMEZONE
BEGIN:VEVENT
DTSTART;VALUE=DATE:20260227
DTEND;VALUE=DATE:20260301
DTSTAMP:20260424T124717
CREATED:20250715T162203Z
LAST-MODIFIED:20260117T195108Z
UID:7123-1772150400-1772323199@indigoaquatics.com
SUMMARY:D.C. MANIA 2026
DESCRIPTION:Sessions using Indigo Aquatics Equipment: \nFR4- Liquid Gym Acqua Punch & Pump – Liquid Gloves and Stars \nSA3- Liquid Gym Acqua Toner Stretch & Tone – Bars\, Bands\, Stars \nSA6 – Liquid Gym: Star Workout – Liquid Stars and Board \nWe are offering the following products from the conference at special prices. First come first serve* Limited quantities – reserve in advance by sending email to info@IndigoAquatics.com and prepay to collect at the conference. \n$54  Liquid Gym Gloves \n$28  Liquid Gym Blue Standard Stars \n$24  Liquid Gym Yellow mini Stars \n$22  Liquid Gym Red Star Board \n$18  Aqua Tone Loops \n$28  Aqua Tone Bar \n$40  Aqua Tone Bands \n$70  Bar and Band Combo \n$34.95  Aqua-Ohm© \n  \n 
URL:https://indigoaquatics.com/event/d-c-mania-2025/
LOCATION:Hyatt Regency Dulles\, 2300 Dulles Convention Center\, Herdon\, VA\, 20171\, United States
CATEGORIES:Conferences
ATTACH;FMTTYPE=image/jpeg:https://indigoaquatics.com/wp-content/uploads/2024/05/DC2025-e1749333481517.jpg
END:VEVENT
BEGIN:VEVENT
DTSTART;VALUE=DATE:20260215
DTEND;VALUE=DATE:20260219
DTSTAMP:20260424T124718
CREATED:20240531T161718Z
LAST-MODIFIED:20260117T195750Z
UID:6757-1771113600-1771459199@indigoaquatics.com
SUMMARY:AOAP 2026
DESCRIPTION:  \nCome join our team in the Expo hall on and experience our specialty sessions where you can explore the different equipment options.
URL:https://indigoaquatics.com/event/aoap/
LOCATION:The Broadmoor\, 5550 Gulf Blvd\, Colorado Springs\, CO\, 80906\, United States
CATEGORIES:Conferences
END:VEVENT
BEGIN:VEVENT
DTSTART;VALUE=DATE:20251114
DTEND;VALUE=DATE:20251117
DTSTAMP:20260424T124718
CREATED:20250715T161818Z
LAST-MODIFIED:20250715T161818Z
UID:7121-1763078400-1763337599@indigoaquatics.com
SUMMARY:Boston MANIA 2025
DESCRIPTION:Sessions using Indigo Aquatics Equipment: \nFR3- LaBlast Splash – Liquid Stars \nFR6 – Liquid Gym Acqua Toner Stretch & Tone – Bars\, Bands\, Loops \nSA3 – Aquatic Strength Training – Aqua Ohm \nSA4 – Aqua Drums Vibes – SAF Aqua Drums Vibes Sticks \nSA5 – Liquid Gym: Star Workout – Liquid Stars and Board \nWe are offering the following products from the conference at special prices. First come first serve* Limited quantities – reserve in advance by sending email to info@IndigoAquatics.com and prepay to collect at the conference. \n$55 SAF Aqua Drums Vibes Sticks \n$54  Liquid Gym Gloves \n$31.50  Liquid Gym Blue Standard Stars \n$24  Liquid Gym Yellow mini Stars \n$22  Liquid Gym Red Star Board \n$18  Aqua Tone Loops \n$28  Aqua Tone Bar \n$38  Aqua Tone Bands \n$65  Bar and Band Combo \n$32.50  Aqua-Ohm© \n$5  Tri-Swim Shampoo\, Conditioner\, Body Wash\, Body Lotion – liquidation while quantities last \n  \n 
URL:https://indigoaquatics.com/event/boston-mania-2025/
LOCATION:Double Tree by Hilton Danvers\, 50 Ferncroft Rd.\, Boston\, MA\, 01923\, United States
CATEGORIES:Conferences
ATTACH;FMTTYPE=image/jpeg:https://indigoaquatics.com/wp-content/uploads/2024/05/BOS-e1749333511190.jpg
END:VEVENT
BEGIN:VEVENT
DTSTART;VALUE=DATE:20251003
DTEND;VALUE=DATE:20251006
DTSTAMP:20260424T124718
CREATED:20250715T161121Z
LAST-MODIFIED:20250715T161121Z
UID:7116-1759449600-1759708799@indigoaquatics.com
SUMMARY:Midwest MANIA 2025
DESCRIPTION:Sessions using Indigo Aquatics Equipment: \nFR3- LaBlast Splash – Liquid Stars \nFR6 – Liquid Gym Acqua Toner Stretch & Tone – Bars\, Bands\, Loops \nSA3 – Aquatic Strength Training – Aqua Ohm \nSA4 – Aqua Drums Vibes – SAF Aqua Drums Vibes Sticks \nSA5 – Liquid Gym: Star Workout – Liquid Stars and Board \nWe are offering the following products from the conference at special prices. First come first serve* Limited quantities – reserve in advance by sending email to info@IndigoAquatics.com and prepay to collect at the conference. \n$55 SAF Aqua Drums Vibes Sticks \n$54  Liquid Gym Gloves \n$31.50  Liquid Gym Blue Standard Stars \n$24  Liquid Gym Yellow mini Stars \n$22  Liquid Gym Red Star Board \n$18  Aqua Tone Loops \n$28  Aqua Tone Bar \n$38  Aqua Tone Bands \n$65  Bar and Band Combo \n$32.50  Aqua-Ohm© \n$5  Tri-Swim Shampoo\, Conditioner\, Body Wash\, Body Lotion – liquidation while quantities last \n  \n 
URL:https://indigoaquatics.com/event/midwest-mania-2025/
LOCATION:Hilton Rosemont\, 5500 N River Rd\, Chicago\, IL\, 60018\, United States
CATEGORIES:Conferences
ATTACH;FMTTYPE=image/jpeg:https://indigoaquatics.com/wp-content/uploads/2024/05/CHI-e1749333535601.jpg
END:VEVENT
BEGIN:VEVENT
DTSTART;VALUE=DATE:20250321
DTEND;VALUE=DATE:20250324
DTSTAMP:20260424T124718
CREATED:20240531T183413Z
LAST-MODIFIED:20240531T183712Z
UID:6801-1742515200-1742774399@indigoaquatics.com
SUMMARY:California MANIA 2025
DESCRIPTION:  \n \n \n \nWe are offering the following products from the conference at special prices. First come first serve* Limited quantities – reserve in advance by sending email to info@IndigoAquatics.com and prepay to collect at the conference. \n$55Â  SAF Aqua Drums Vibes Sticks \n$45Â  Liquid Gym Gloves \n$28Â  Liquid Gym Blue Standard Stars \n$22Â  Liquid Gym Yellow mini Stars \n$24Â  Liquid Gym Red Star Board \n$18Â  Aqua Tone Loops \n$28Â  Aqua Tone Bar \n$38Â  Aqua Tone Bands \n$65Â  Bar and Band Combo \n$30Â  Aqua-Î© \n$10Â  Tri-Swim Shampoo\, Conditioner\, Body Wash\, Body Lotion \n  \n 
URL:https://indigoaquatics.com/event/california-mania/
LOCATION:Hyatt Regency San Francisco Airport\, 1333 Old Bayshore Hwy\, Burlingame\, CA\, 94010\, United States
CATEGORIES:Conferences
ATTACH;FMTTYPE=image/jpeg:https://indigoaquatics.com/wp-content/uploads/2024/05/CAL.jpg
END:VEVENT
BEGIN:VEVENT
DTSTART;VALUE=DATE:20250228
DTEND;VALUE=DATE:20250303
DTSTAMP:20260424T124718
CREATED:20240531T182849Z
LAST-MODIFIED:20240531T183339Z
UID:6799-1740700800-1740959999@indigoaquatics.com
SUMMARY:DC MANIA 2025
DESCRIPTION:  \n \n \n \nWe are offering the following products from the conference at special prices. First come first serve* Limited quantities – reserve in advance by sending email to info@IndigoAquatics.com and prepay to collect at the conference. \n$55Â  SAF Aqua Drums Vibes Sticks \n$45Â  Liquid Gym Gloves \n$28Â  Liquid Gym Blue Standard Stars \n$22Â  Liquid Gym Yellow mini Stars \n$24Â  Liquid Gym Red Star Board \n$18Â  Aqua Tone Loops \n$28Â  Aqua Tone Bar \n$38Â  Aqua Tone Bands \n$65Â  Bar and Band Combo \n$30Â  Aqua-Î© \n$10Â  Tri-Swim Shampoo\, Conditioner\, Body Wash\, Body Lotion \n  \n 
URL:https://indigoaquatics.com/event/dc-mania-2/
LOCATION:Hyatt Regency Dulles\, 2300 Dulles Convention Center\, Herdon\, VA\, 20171\, United States
CATEGORIES:Conferences
ATTACH;FMTTYPE=image/jpeg:https://indigoaquatics.com/wp-content/uploads/2024/05/DC2025-e1749333481517.jpg
END:VEVENT
BEGIN:VEVENT
DTSTART;VALUE=DATE:20241004
DTEND;VALUE=DATE:20241007
DTSTAMP:20260424T124718
CREATED:20240531T180840Z
LAST-MODIFIED:20240531T182513Z
UID:6792-1728000000-1728259199@indigoaquatics.com
SUMMARY:Midwest MANIA 2024
DESCRIPTION:  \n \n \n \nWe are offering the following products from the conference at special prices. First come first serve* Limited quantities – reserve in advance by sending email to info@IndigoAquatics.com and prepay to collect at the conference. \n$55Â  SAF Aqua Drums Vibes Sticks \n$45Â  Liquid Gym Gloves \n$28Â  Liquid Gym Blue Standard Stars \n$22Â  Liquid Gym Yellow mini Stars \n$24Â  Liquid Gym Red Star Board \n$18Â  Aqua Tone Loops \n$28Â  Aqua Tone Bar \n$38Â  Aqua Tone Bands \n$65Â  Bar and Band Combo \n$30Â  Aqua-Î© \n$10Â  Tri-Swim Shampoo\, Conditioner\, Body Wash\, Body Lotion \n  \n 
URL:https://indigoaquatics.com/event/midwest-mania/
LOCATION:Hilton Rosemont\, 5500 N River Rd\, Chicago\, IL\, 60018\, United States
CATEGORIES:Conferences
ATTACH;FMTTYPE=image/jpeg:https://indigoaquatics.com/wp-content/uploads/2024/05/CHI-e1749333535601.jpg
END:VEVENT
BEGIN:VEVENT
DTSTART;VALUE=DATE:20240823
DTEND;VALUE=DATE:20240826
DTSTAMP:20260424T124718
CREATED:20240531T164319Z
LAST-MODIFIED:20240531T180801Z
UID:6763-1724371200-1724630399@indigoaquatics.com
SUMMARY:Dallas MANIA 2024
DESCRIPTION:  \n \n \n \nWe are offering the following products from the conference at special prices. First come first serve* Limited quantities – reserve in advance by sending email to info@IndigoAquatics.com and prepay to collect at the conference. \n$55Â  SAF Aqua Drums Vibes Sticks \n$45Â  Liquid Gym Gloves \n$28Â  Liquid Gym Blue Standard Stars \n$22Â  Liquid Gym Yellow mini Stars \n$24Â  Liquid Gym Red Star Board \n$18Â  Aqua Tone Loops \n$28Â  Aqua Tone Bar \n$38Â  Aqua Tone Bands \n$65Â  Bar and Band Combo \n$30Â  Aqua-Î© \n$10Â  Tri-Swim Shampoo\, Conditioner\, Body Wash\, Body Lotion \n  \n 
URL:https://indigoaquatics.com/event/dallas-mania-2024/
LOCATION:Westin Galleria\, 13340 Dallas Pkwy\, Dallas\, TX\, 75240\, United States
CATEGORIES:Conferences
ATTACH;FMTTYPE=image/jpeg:https://indigoaquatics.com/wp-content/uploads/2024/05/DAL-e1749333575990.jpg
END:VEVENT
BEGIN:VEVENT
DTSTART;VALUE=DATE:20240802
DTEND;VALUE=DATE:20240805
DTSTAMP:20260424T124718
CREATED:20240531T161116Z
LAST-MODIFIED:20240531T184634Z
UID:6754-1722556800-1722815999@indigoaquatics.com
SUMMARY:DCAC FitCon 2024
DESCRIPTION: 
URL:https://indigoaquatics.com/event/dcac-fitcon-2024/
LOCATION:Hyatt Regency Reston\, 1800 Presidents St\, Reston\, VA\, 20190\, United States
CATEGORIES:Conferences,Demos
ATTACH;FMTTYPE=image/png:https://indigoaquatics.com/wp-content/uploads/2024/05/INDIGO.png
ORGANIZER;CN="FitCon":MAILTO:info@pnwfitcon.com
END:VEVENT
BEGIN:VEVENT
DTSTART;VALUE=DATE:20240317
DTEND;VALUE=DATE:20240506
DTSTAMP:20260424T124718
CREATED:20240311T211738Z
LAST-MODIFIED:20240313T170327Z
UID:6686-1710633600-1714953599@indigoaquatics.com
SUMMARY:IAFTC 2024
DESCRIPTION:We are offering the following products from the conference at special prices. Limited quantities – pre-orders being accepted (Click here to Pre-Order) \nCollect your items at the conference on the morning of May 10th. \nShipping for these items not available*\nFirst come first serve* \n$54.60Â  SAF Aqua Drums Vibes Sticks – (Pre-Order) \n$45.50Â  Liquid Gym Gloves – (Pre-Order) \n$27.30Â  Liquid Gym Blue Standard Stars – (Pre-Order) \n$22.75Â  Liquid Gym Yellow mini Stars – (Pre-Order) \n$21.85Â  Liquid Gym Red Star Board – (Pre-Order) \n$18.20Â  Aqua Tone Loops – (Pre-Order) \n$27.30Â  Aqua Tone Bar (Pre-Order) \n$36.40Â  Aqua Tone Bands – (Pre-Order) \n$30.00Â  Aqua-Î© – (Pre-Order) \n  \n 
URL:https://indigoaquatics.com/event/iafc-2024/
LOCATION:Sanibel Harbour Marriott Resort & Spa\, 17260 Harbour Pointe Dr\, Ft Myers\, FL\, 33908\, United States
CATEGORIES:Conferences
ATTACH;FMTTYPE=image/jpeg:https://indigoaquatics.com/wp-content/uploads/2021/09/fullsizeoutput_1889.jpg
END:VEVENT
BEGIN:VEVENT
DTSTART;VALUE=DATE:20240212
DTEND;VALUE=DATE:20240216
DTSTAMP:20260424T124718
CREATED:20230322T211519Z
LAST-MODIFIED:20230322T212007Z
UID:6295-1707696000-1708041599@indigoaquatics.com
SUMMARY:AOAP 2024
DESCRIPTION:  \nCome join our team in the Expo hall on and experience our specialty sessions where you can explore the different equipment options.
URL:https://indigoaquatics.com/event/aoap-2024/
LOCATION:Grand Sierra Resort\, 2500 E 2nd St\, Reno\, NV\, 89595
CATEGORIES:Conferences
ATTACH;FMTTYPE=image/jpeg:https://indigoaquatics.com/wp-content/uploads/2021/02/BAP-logo.jpg
END:VEVENT
END:VCALENDAR