BEGIN:VCALENDAR
VERSION:2.0
PRODID:-//Indigo Aquatics Inc - ECPv6.15.17.1//NONSGML v1.0//EN
CALSCALE:GREGORIAN
METHOD:PUBLISH
X-WR-CALNAME:Indigo Aquatics Inc
X-ORIGINAL-URL:https://indigoaquatics.com
X-WR-CALDESC:Events for Indigo Aquatics Inc
REFRESH-INTERVAL;VALUE=DURATION:PT1H
X-Robots-Tag:noindex
X-PUBLISHED-TTL:PT1H
BEGIN:VTIMEZONE
TZID:America/New_York
BEGIN:DAYLIGHT
TZOFFSETFROM:-0500
TZOFFSETTO:-0400
TZNAME:EDT
DTSTART:20250309T070000
END:DAYLIGHT
BEGIN:STANDARD
TZOFFSETFROM:-0400
TZOFFSETTO:-0500
TZNAME:EST
DTSTART:20251102T060000
END:STANDARD
BEGIN:DAYLIGHT
TZOFFSETFROM:-0500
TZOFFSETTO:-0400
TZNAME:EDT
DTSTART:20260308T070000
END:DAYLIGHT
BEGIN:STANDARD
TZOFFSETFROM:-0400
TZOFFSETTO:-0500
TZNAME:EST
DTSTART:20261101T060000
END:STANDARD
BEGIN:DAYLIGHT
TZOFFSETFROM:-0500
TZOFFSETTO:-0400
TZNAME:EDT
DTSTART:20270314T070000
END:DAYLIGHT
BEGIN:STANDARD
TZOFFSETFROM:-0400
TZOFFSETTO:-0500
TZNAME:EST
DTSTART:20271107T060000
END:STANDARD
END:VTIMEZONE
BEGIN:VTIMEZONE
TZID:America/Chicago
BEGIN:DAYLIGHT
TZOFFSETFROM:-0600
TZOFFSETTO:-0500
TZNAME:CDT
DTSTART:20250309T080000
END:DAYLIGHT
BEGIN:STANDARD
TZOFFSETFROM:-0500
TZOFFSETTO:-0600
TZNAME:CST
DTSTART:20251102T070000
END:STANDARD
BEGIN:DAYLIGHT
TZOFFSETFROM:-0600
TZOFFSETTO:-0500
TZNAME:CDT
DTSTART:20260308T080000
END:DAYLIGHT
BEGIN:STANDARD
TZOFFSETFROM:-0500
TZOFFSETTO:-0600
TZNAME:CST
DTSTART:20261101T070000
END:STANDARD
BEGIN:DAYLIGHT
TZOFFSETFROM:-0600
TZOFFSETTO:-0500
TZNAME:CDT
DTSTART:20270314T080000
END:DAYLIGHT
BEGIN:STANDARD
TZOFFSETFROM:-0500
TZOFFSETTO:-0600
TZNAME:CST
DTSTART:20271107T070000
END:STANDARD
END:VTIMEZONE
BEGIN:VEVENT
DTSTART;VALUE=DATE:20260511
DTEND;VALUE=DATE:20260517
DTSTAMP:20260422T135618
CREATED:20260117T201638Z
LAST-MODIFIED:20260117T202103Z
UID:7131-1778457600-1778975999@indigoaquatics.com
SUMMARY:IAFTC 2026
DESCRIPTION:IAFTC precon sessions
URL:https://indigoaquatics.com/event/iaftc-2026/
LOCATION:Innisbrook Resort\, 36750 US Highway 19 North\, Palm Harbor\, FL\, 34684\, United States
CATEGORIES:Conferences
END:VEVENT
BEGIN:VEVENT
DTSTART;VALUE=DATE:20260529
DTEND;VALUE=DATE:20260601
DTSTAMP:20260422T135618
CREATED:20240531T183847Z
LAST-MODIFIED:20260117T203256Z
UID:6803-1780012800-1780271999@indigoaquatics.com
SUMMARY:Florida MANIA 2026
DESCRIPTION:  \n \n \n \n  \n  \n 
URL:https://indigoaquatics.com/event/fl2025/
LOCATION:Caribe Royale Resort\, 8101 World Center Drive\, Orlando\, FL\, 32821\, United States
CATEGORIES:Conferences
ATTACH;FMTTYPE=image/jpeg:https://indigoaquatics.com/wp-content/uploads/2024/05/FL25.jpg
END:VEVENT
BEGIN:VEVENT
DTSTART;VALUE=DATE:20260730
DTEND;VALUE=DATE:20260802
DTSTAMP:20260422T135618
CREATED:20240531T175326Z
LAST-MODIFIED:20260117T195240Z
UID:6785-1785369600-1785628799@indigoaquatics.com
SUMMARY:Atlanta MANIA 2026
DESCRIPTION:Sessions using Indigo Aquatics Equipment: \nFR4- Liquid Gym Acqua Punch & Pump – Liquid Gloves and Stars \nSA3- Liquid Gym Acqua Toner Stretch & Tone – Bars\, Bands\, Stars \nSA6 – Liquid Gym: Star Workout – Liquid Stars and Board \nWe are offering the following products from the conference at special prices. First come first serve* Limited quantities – reserve in advance by sending email to info@IndigoAquatics.com and prepay to collect at the conference. \n$54  Liquid Gym Gloves \n$28  Liquid Gym Blue Standard Stars \n$24  Liquid Gym Yellow mini Stars \n$22  Liquid Gym Red Star Board \n$18  Aqua Tone Loops \n$28  Aqua Tone Bar \n$40  Aqua Tone Bands \n$70  Bar and Band Combo \n$34.95  Aqua-Ohm© \n  \n  \n 
URL:https://indigoaquatics.com/event/atlanta-mania-2/
LOCATION:Grand Hyatt Hotel\, 3300 Peachtree Rd\, Atlanta\, GA\, 30305\, United States
CATEGORIES:Conferences
ATTACH;FMTTYPE=image/jpeg:https://indigoaquatics.com/wp-content/uploads/2024/05/ATL-e1749333556403.jpg
END:VEVENT
BEGIN:VEVENT
DTSTART;VALUE=DATE:20260828
DTEND;VALUE=DATE:20260831
DTSTAMP:20260422T135618
CREATED:20250715T160738Z
LAST-MODIFIED:20260117T195340Z
UID:7110-1787875200-1788134399@indigoaquatics.com
SUMMARY:Dallas MANIA 2026
DESCRIPTION:FR4- Liquid Gym Acqua Punch & Pump – Liquid Gloves and Stars \nSA3- Liquid Gym Acqua Toner Stretch & Tone – Bars\, Bands\, Stars \nSA6 – Liquid Gym: Star Workout – Liquid Stars and Board \nWe are offering the following products from the conference at special prices. First come first serve* Limited quantities – reserve in advance by sending email to info@IndigoAquatics.com and prepay to collect at the conference. \n$54  Liquid Gym Gloves \n$28  Liquid Gym Blue Standard Stars \n$24  Liquid Gym Yellow mini Stars \n$22  Liquid Gym Red Star Board \n$18  Aqua Tone Loops \n$28  Aqua Tone Bar \n$40  Aqua Tone Bands \n$70  Bar and Band Combo \n$34.95  Aqua-Ohm© \n 
URL:https://indigoaquatics.com/event/dallas-mania-2/
LOCATION:Westin Galleria\, 13340 Dallas Pkwy\, Dallas\, TX\, 75240\, United States
CATEGORIES:Conferences
ATTACH;FMTTYPE=image/jpeg:https://indigoaquatics.com/wp-content/uploads/2024/05/DAL-e1749333575990.jpg
END:VEVENT
END:VCALENDAR